BEGIN:VCALENDAR
PRODID:-//eluceo/ical//2.0/EN
VERSION:2.0
CALSCALE:GREGORIAN
BEGIN:VEVENT
UID:EVENT-00151@sms-group.com
DTSTAMP:20260420T122344Z
SUMMARY:SMS Campus - Geführte Tour 12.12.2025
DESCRIPTION:Erleben Sie den SMS Campus in Mönchengladbach\, wo innovative 
 Architektur und modernste Technologien auf über 44.000 m² Arbeitsfläche
  für 1.500 Mitarbeitende eine inspirierende Umgebung schaffen. Tauchen Si
 e ein in die beeindruckende Geschichte der SMS group und entdecken Sie int
 eraktive Installationen\, die zukunftsweisende Projekte und Technologien a
 nschaulich präsentieren. Abschließend erfahren Sie\, wie Nachhaltigkeit 
 und Energieeffizienz als integrale Bestandteile der Unternehmensstrategie 
 den Campus prägen und Maßstäbe in der Metallindustrie setzen.\nBitte be
 achten Sie\, dass wir die Tour erst ab einer Teilnehmerzahl von 10 Persone
 n anbieten können.
DTSTART;TZID=Europe/Berlin:20251212T150000
DTEND;TZID=Europe/Berlin:20251212T170000
LOCATION:Online
ORGANIZER;CN=SMS group GmbH:mailto:noreply@sms-group-connects.com
END:VEVENT
BEGIN:VTIMEZONE
TZID:Europe/Berlin
BEGIN:STANDARD
DTSTART:20251212T150000
TZNAME:CET
TZOFFSETTO:+0100
TZOFFSETFROM:+0100
END:STANDARD
END:VTIMEZONE
END:VCALENDAR
